BEGIN:VCALENDAR
VERSION:2.0
CALSCALE:GREGORIAN
METHOD:PUBLISH
PRODID://NEOL//516720
BEGIN:VEVENT
DTSTAMP:20260423T133645
VTIMEZONE:America/New_York
DTSTART:20260604T133000Z
DTEND:20260604T193000Z
UID:516720
SUMMARY:Facing Challenges, Embracing Change: A Day for Collection Management and Technical Services
LOCATION:Parma-Powers Branch - Cuyahoga County Public Library, 6996 Powers Blvd , Parma, Oh, 44129
DESCRIPTION:Facing Challenges, Embracing Change: A Day for Collection Management and Technical Services\n\n06/04/26 09:30 AM EST\n - 06/04/26 03:30 PM EST\Description:\nSpend a day connecting, collaborating and sharing solutions with your colleauges in Collection Development and Technical Services. This event brings together speakers, panel discussions, and facilitated group conversations focused on the challenges and opportunities shaping your work today. Topics include navigating vendor issues and opportunities, balancing materials selection budgets, managing AI-generated content in library collections, and developing flexible training resources and procedure manuals.\n\nDesigned to be both engaging and practical, this is an opportunity to connect with colleagues from institutions of all sizes, exchange ideas, and come away with fresh perspectives and useful strategies.\n\Details:\nWho should attend:  Anyone interested in collection management and technical services\nCompetency:  AcQuisitions, Collection Management and Cataloging and Metadata\n\nNon-Member Cost:      $160\nNEO-RLS Bronze Member Cost:  $120\nNEO-RLS Silver Member Cost:    $80\nNEO-RLS Gold Member Cost:    FREE\nNEO-RLS Individual Member Cost:  $80\n\nThere is an additional $30 surcharge for facility use and amenities.\nWe encourage you to register a minimum of seven (7) days in advance for this event in order to ensure that we can accommodate your full participation in terms of seating, hand-outs, food, etc.\n\nIt’s never too late to save your library money. NEO-RLS Memberships are pro-rated! Call us today to join.\Location:\nParma-Powers Branch - Cuyahoga County Public Library\n6996 Powers Blvd \nParma, Oh 44129
X-ALT-DESC;FMTTYPE=text/html:Facing Challenges, Embracing Change: A Day for Collection Management and Technical Services<br /><br />06/04/26 09:30 AM EST - 06/04/26 03:30 PM EST<br />Description:<br /><p data-end="450" data-start="0">Spend a day connecting, collaborating and sharing solutions&nbsp;with your colleauges in Collection Development and Technical Services. This event brings together speakers, panel discussions, and facilitated&nbsp;group conversations focused on the challenges and opportunities shaping your work today. Topics include navigating vendor issues and opportunities, balancing materials selection budgets, managing AI-generated content in library collections, and developing flexible training resources and procedure manuals.</p>

<p data-end="659" data-is-last-node="" data-is-only-node="" data-start="452">Designed to be both engaging and practical, this is an&nbsp;opportunity to connect with colleagues from institutions of all sizes, exchange ideas, and come away with fresh perspectives and useful strategies.</p>
<br />Details:<br />Who should attend:&nbsp; Anyone interested in collection management and technical services<br />
Competency:&nbsp; AcQuisitions, Collection Management and Cataloging and Metadata<br />
<br />
Non-Member Cost: &nbsp; &nbsp;&nbsp; $160<br />
NEO-RLS&nbsp;Bronze Member&nbsp;Cost:&nbsp; $120<br />
NEO-RLS Silver Member Cost:&nbsp; &nbsp; $80<br />
NEO-RLS Gold Member Cost:&nbsp; &nbsp; FREE<br />
NEO-RLS Individual Member Cost:&nbsp; $80<br />
<br />
<span style="font-size:16px"><font face="Verdana"><font face="Verdana">There is an additional $30 surcharge for facility use and amenities.</font></font></span><br />
We encourage you to&nbsp;<strong>register a minimum of seven (7) days in advance for this event</strong>&nbsp;in order to ensure that we can accommodate your full participation in terms of seating, hand-outs, food, etc.<br />
<br />
<font face="Verdana" size="2"><font face="Verdana" size="2"><font face="Verdana" size="2"><strong><font face="Verdana" size="2"><font face="Verdana" size="2"><font face="Verdana" size="2"><font face="Verdana" size="2"><font face="Verdana" size="2"><em>It&rsquo;s never too late to save your library money. NEO-RLS Memberships are pro-rated! Call us today to join.</em></font></font></font></font></font></strong></font></font></font><br />Location:<br />Parma-Powers Branch - Cuyahoga County Public Library<br />6996 Powers Blvd <br />Parma, Oh 44129
PRIORITY:3
TRANSP:TRANSPARENT
BEGIN:VALARM
TRIGGER:-PT5M
ACTION:DISPLAY
DESCRIPTION:Reminder
END:VALARM
END:VEVENT
END:VCALENDAR
