BEGIN:VCALENDAR
VERSION:2.0
CALSCALE:GREGORIAN
METHOD:PUBLISH
PRODID://NEOL//516584
BEGIN:VEVENT
DTSTAMP:20260421T224731
VTIMEZONE:America/New_York
DTSTART:20260804T180000Z
DTEND:20260804T190000Z
UID:516584
SUMMARY:Guided Reading Round Table (GRRT): Cozy Sci-Fi & Fantasy 
LOCATION:Online, Via Zoom
DESCRIPTION:Guided Reading Round Table (GRRT): Cozy Sci-Fi & Fantasy \n\n08/04/26 02:00 PM EST\n - 08/04/26 03:00 PM EST\Description:\nModeled off the Chicago-area Adult Reading Round Table, the Guided Reading Round Table (GRRT) will lead library staff through an in-depth genre study. Over the course of a year, we will explore cozy fiction, with a specific focus on the science fiction, fantasy, mystery, horror, healing, and romance subgenres. This second session will explore and compare cozy science fiction and cozy fantasy through guided discussions to identify popular authors, titles, tropes, & trends. A reading list & questions will be supplied; while it is not required, it is recommended to read through some of the titles and questions. The GRRT is dedicated to the development of readers’ advisory skills and the promotion of reading for pleasure. \n \n\Details:\nWho Should Attend:  Anyone interested in the Cozy Genre and Readers' Advisory\nCompetency:  Readers' Advisory\n\nCost:  FREE to all\n\nIt’s never too late to save your library money. NEO-RLS Memberships are pro-rated! Call us today to join.\Location:\nOnline\nVia Zoom\n,
X-ALT-DESC;FMTTYPE=text/html:Guided Reading Round Table (GRRT): Cozy Sci-Fi & Fantasy <br /><br />08/04/26 02:00 PM EST - 08/04/26 03:00 PM EST<br />Description:<br /><p>Modeled off the Chicago-area Adult Reading Round Table, the Guided Reading Round Table (GRRT) will lead library staff through an in-depth&nbsp;genre&nbsp;study. Over the course of a year, we will explore&nbsp;cozy fiction, with a specific focus on&nbsp;the science&nbsp;fiction, fantasy, mystery, horror, healing, and romance subgenres.&nbsp;This&nbsp;second&nbsp;session will explore&nbsp;and compare&nbsp;cozy science fiction and cozy fantasy&nbsp;through guided discussions to&nbsp;identify&nbsp;popular authors, titles, tropes, &amp; trends. A reading list &amp; questions will be supplied; while it is not&nbsp;required, it is recommended to&nbsp;read through&nbsp;some of the titles and questions. The GRRT is dedicated to the development of readers&rsquo; advisory skills and the promotion of reading for pleasure.&nbsp;<br />
&nbsp;</p>
<br />Details:<br />Who Should Attend:&nbsp; Anyone interested in the Cozy Genre and Readers' Advisory<br />
Competency:&nbsp; Readers' Advisory<br />
<br />
Cost:&nbsp; FREE to all<br />
<br />
<strong><em>It&rsquo;s never too late to save your library money. NEO-RLS Memberships are pro-rated! Call us today to join.</em></strong><br />Location:<br />Online<br />Via Zoom<br />,  
PRIORITY:3
TRANSP:TRANSPARENT
BEGIN:VALARM
TRIGGER:-PT5M
ACTION:DISPLAY
DESCRIPTION:Reminder
END:VALARM
END:VEVENT
END:VCALENDAR
