BEGIN:VCALENDAR
VERSION:2.0
CALSCALE:GREGORIAN
METHOD:PUBLISH
PRODID://NEOL//220098
BEGIN:VEVENT
DTSTAMP:20260421T155632
VTIMEZONE:America/New_York
DTSTART:20190329T180000Z
DTEND:20190329T190000Z
UID:220098
SUMMARY:Intellectual Freedom . . . The Good, The Bad, and the Ugly <font color=ff0000>[Archive] </font>
LOCATION:Online, Via Adobe Connect
DESCRIPTION:Intellectual Freedom . . . The Good, The Bad, and the Ugly <font color=ff0000>[Archive] </font>\n\n03/29/19 02:00 PM EST\n - 03/29/19 03:00 PM EST\Description:\n\n	Why is "equal access" a cornerstone of public library service?\n	How can you reconcile conflicts between library policies and procedures and personal beliefs?\n	What training should all library employees have in the area of intellectual freedom?\n\nPresenter: Amy Switzer\n\nWhen you receive your confirmation of registration for this archive the link to the archive will be included in the confirmation email.\Details:\nCost:  $20\nGold, Silver & Bronze Members    FREE\nGroup rate 10 or more\Location:\nOnline\nVia Adobe Connect\n,
X-ALT-DESC;FMTTYPE=text/html:Intellectual Freedom . . . The Good, The Bad, and the Ugly <font color=ff0000>[Archive] </font><br /><br />03/29/19 02:00 PM EST - 03/29/19 03:00 PM EST<br />Description:<br /><ul>
	<li>Why is &quot;equal access&quot; a cornerstone of public library service?</li>
	<li>How can you reconcile conflicts between library policies and procedures and personal beliefs?</li>
	<li>What training should all library employees have in the area of intellectual freedom?</li>
</ul>
Presenter: Amy Switzer<br />
<br />
When you receive your confirmation of registration for this archive the link to the archive will be included in the confirmation email.<br />Details:<br /><font face="Verdana" size="2">Cost:&nbsp; $20<br />
Gold, Silver &amp; Bronze Members&nbsp;&nbsp;&nbsp; FREE<br />
Group rate 10 or more</font><br />Location:<br />Online<br />Via Adobe Connect<br />,  
PRIORITY:3
TRANSP:TRANSPARENT
BEGIN:VALARM
TRIGGER:-PT5M
ACTION:DISPLAY
DESCRIPTION:Reminder
END:VALARM
END:VEVENT
END:VCALENDAR
