BEGIN:VCALENDAR
VERSION:2.0
CALSCALE:GREGORIAN
METHOD:PUBLISH
PRODID://NEOL//205788
BEGIN:VEVENT
DTSTAMP:20260425T113359
VTIMEZONE:America/New_York
DTSTART:20210414T180000Z
DTEND:20210414T200000Z
UID:205788
SUMMARY:Statewide Directors' Networking Meeting
LOCATION:Online via Zoom
DESCRIPTION:Statewide Directors' Networking Meeting\n\n04/14/21 02:00 PM EST\n - 04/14/21 04:00 PM EST\Description:\nWould you like to hear what your fellow directors around the state are doing as we move into spring and summer in the midst of the continuing pandemic?  Would you like to be able to discuss your challenges and share your solutions?  The four state regional library systems (NEO-RLS, NORWELD, SERLS and SWON) in conjunction with the State Library of Ohio invite you to the second statewide directors’ Network Meeting on Wednesday, April 14, 2021 at 2:00 p.m.  Wendy Knapp, State Librarian, will share information from the State Library and Evan Struble, Associate State Librarian for Library Development, will moderate the discussion.  This event is open to all and is free.  Please register so that we can ensure an optimal experience.\n \Details:\nFREE to all\Location:\nOnline via Zoom\n\n,
X-ALT-DESC;FMTTYPE=text/html:Statewide Directors' Networking Meeting<br /><br />04/14/21 02:00 PM EST - 04/14/21 04:00 PM EST<br />Description:<br />Would you like to hear what your fellow directors around the state are doing as we move into spring and summer in the midst of the continuing pandemic?&nbsp; Would you like to be able to discuss your challenges and share your solutions?&nbsp; The four state regional library systems (NEO-RLS, NORWELD, SERLS and SWON) in conjunction with the State Library of Ohio invite you to the second statewide directors&rsquo; Network Meeting on Wednesday, April 14, 2021 at 2:00 p.m.&nbsp; Wendy Knapp, State Librarian, will share information from the State Library and Evan Struble, Associate State Librarian for Library Development, will moderate the discussion.&nbsp; This event is open to all and is free.&nbsp; Please register so that we can ensure an optimal experience.<br />
&nbsp;<br />Details:<br />FREE to all<br />Location:<br />Online via Zoom<br /><br />,  
PRIORITY:3
TRANSP:TRANSPARENT
BEGIN:VALARM
TRIGGER:-PT5M
ACTION:DISPLAY
DESCRIPTION:Reminder
END:VALARM
END:VEVENT
END:VCALENDAR
