BEGIN:VCALENDAR
VERSION:2.0
CALSCALE:GREGORIAN
METHOD:PUBLISH
PRODID://NEOL//200852
BEGIN:VEVENT
DTSTAMP:20260424T010758
VTIMEZONE:America/New_York
DTSTART:20210518T150000Z
DTEND:20210518T170000Z
UID:200852
SUMMARY:Board Meeting - 11:00 am
LOCATION:Online via Zoom
DESCRIPTION:Board Meeting - 11:00 am\n\n05/18/21 11:00 AM EST\n - 05/18/21 01:00 PM EST\Location:\nOnline via Zoom\n\n,
X-ALT-DESC;FMTTYPE=text/html:Board Meeting - 11:00 am<br /><br />05/18/21 11:00 AM EST - 05/18/21 01:00 PM EST<br />Location:<br />Online via Zoom<br /><br />,  
PRIORITY:3
TRANSP:TRANSPARENT
BEGIN:VALARM
TRIGGER:-PT5M
ACTION:DISPLAY
DESCRIPTION:Reminder
END:VALARM
END:VEVENT
END:VCALENDAR
