BEGIN:VCALENDAR
VERSION:2.0
CALSCALE:GREGORIAN
METHOD:PUBLISH
PRODID://NEOL//200848
BEGIN:VEVENT
DTSTAMP:20260425T232639
VTIMEZONE:America/New_York
DTSTART:20210316T133000Z
DTEND:20210316T144500Z
UID:200848
SUMMARY:Finance/Personnel Committee - 9:30 am
LOCATION:Online via Zoom
DESCRIPTION:Finance/Personnel Committee - 9:30 am\n\n03/16/21 09:30 AM EST\n - 03/16/21 10:45 AM EST\Description:\nOpen only to board members and Finance and Personnel Committee.\Location:\nOnline via Zoom\n\n,
X-ALT-DESC;FMTTYPE=text/html:Finance/Personnel Committee - 9:30 am<br /><br />03/16/21 09:30 AM EST - 03/16/21 10:45 AM EST<br />Description:<br />Open only to board members and Finance and Personnel Committee.<br />Location:<br />Online via Zoom<br /><br />,  
PRIORITY:3
TRANSP:TRANSPARENT
BEGIN:VALARM
TRIGGER:-PT5M
ACTION:DISPLAY
DESCRIPTION:Reminder
END:VALARM
END:VEVENT
END:VCALENDAR
