BEGIN:VCALENDAR
VERSION:2.0
CALSCALE:GREGORIAN
METHOD:PUBLISH
PRODID://NEOL//195896
BEGIN:VEVENT
DTSTAMP:20260425T150809
VTIMEZONE:America/New_York
DTSTART:20200916T140000Z
DTEND:20200916T150000Z
UID:195896
SUMMARY:Soft Skills for Strong Management: Cultivating Good Critical Thinking
LOCATION:Online via Zoom
DESCRIPTION:Soft Skills for Strong Management: Cultivating Good Critical Thinking\n\n09/16/20 10:00 AM EST\n - 09/16/20 11:00 AM EST\Description:\nSoft Skills for Strong Management: Cultivating Good Critical Thinking \nWith the challenges and demands supervisors continually face each day, it is essential to possess great critical thinking skills. It is also important to instill such soft skills in your employees so that they can handle the daily demands of their jobs. But what exactly are these crucial abilities? And better yet, why are they important and how can they help us in this ever-changing library environment?\n\nCritical thinking is an overarching skill that helps you succeed in many facets of your professional and personal life. Characteristics like open-mindedness, good decision-making, the ability to be self-aware, and the capacity to adapt in the workplace are all tools that are driven by good critical thinking.\n\nLearning objectives:\n\n\n	Define the concept of critical thinking\n	Explore several of the associated tools mentioned above\n	Investigate soft skills and learn ways to immediately improve to become a more conscious and efficient critical thinker\n\n Presenter:\n\nHolly Klingler, Research and Innovation Coordinator, NEO-RLS\Details:\nWho should attend:  Managers and others interested in critical thinking\n\nCompetency:  Leadership\n\nNon-Member Cost:      $40\nNEO-RLS Bronze Member/\nNORWELD, SERLS, SWON Member Cost:  $24\nNEO-RLS Silver Member Cost:   FREE\nNEO-RLS Gold Member Cost:    FREE\n\nCan't attend on the date or time listed? Sign up anyway! All of our webinars include archive access for later viewing at your convenience.\n\nIt’s never too late to save your library money. NEO-RLS Memberships are pro-rated! Call us today to join.\n\n \Location:\nOnline via Zoom\n\n,
X-ALT-DESC;FMTTYPE=text/html:Soft Skills for Strong Management: Cultivating Good Critical Thinking<br /><br />09/16/20 10:00 AM EST - 09/16/20 11:00 AM EST<br />Description:<br /><b>Soft Skills for Strong Management: Cultivating Good Critical Thinking </b>
<p>With the challenges and demands supervisors continually face each day, it is essential to possess great critical thinking skills. It is also important to instill such soft skills in your employees so that they can handle the daily demands of their jobs. But what exactly are these crucial abilities? And better yet, why are they important and how can they help us in this ever-changing library environment?</p>

<p>Critical thinking is an overarching skill that helps you succeed in many facets of your professional and personal life. Characteristics like open-mindedness, good decision-making, the ability to be self-aware, and the capacity to adapt in the workplace are all tools that are driven by good critical thinking.</p>

<p><strong><span style="font-family: arial; font-size: small;">Learning objectives:</span></strong></p>

<ul>
	<li>Define the concept of critical thinking</li>
	<li><span style="font-family: arial; font-size: small;">Explore several of the associated tools mentioned above</span></li>
	<li><span style="font-family: arial; font-size: small;">Investigate soft skills and learn ways to immediately improve to become a more conscious and efficient critical thinker</span></li>
</ul>
&nbsp;<strong>Presenter:</strong><br />
<br />
<em>Holly Klingler,</em> <font face="Verdana" size="2">Research and Innovation Coordinator, NEO-RLS</font><br />Details:<br /><font face="Verdana" size="2"><font face="Verdana" size="2"><font face="Verdana" size="2">Who should attend:&nbsp; Managers and others interested in critical thinking<br />
<br />
Competency:&nbsp; Leadership<br />
<br />
<font face="Verdana" size="2">Non-Member Cost: &nbsp; &nbsp;&nbsp; $40<br />
NEO-RLS&nbsp;Bronze Member/<br />
NORWELD, SERLS, SWON&nbsp;Member Cost:&nbsp; $24<br />
NEO-RLS Silver Member Cost:&nbsp; &nbsp;FREE<br />
NEO-RLS Gold Member Cost:&nbsp; &nbsp; FREE</font></font></font><br style="font-size: small; box-sizing: border-box; font-family: Verdana;" />
<br style="font-size: small; box-sizing: border-box; font-family: Verdana;" />
Can't attend on the date or time listed? Sign up anyway! All of our webinars include archive access for later viewing at your convenience.<br />
<br />
<font face="Verdana" size="2"><font face="Verdana" size="2"><font face="Verdana" size="2"><font face="Verdana" size="2"><strong><font face="Verdana" size="2" style="box-sizing: border-box; font-family: Verdana; font-size: small;"><font face="Verdana" size="2" style="box-sizing: border-box;"><font face="Verdana" size="2" style="box-sizing: border-box;"><font face="Verdana" size="2" style="box-sizing: border-box;"><font face="Verdana" size="2" style="box-sizing: border-box;"><em style="box-sizing: border-box;">It&rsquo;s never too late to save your library money. NEO-RLS Memberships are pro-rated! Call us today to join.</em></font></font></font></font></font></strong></font></font></font></font></font><br />
<br />
&nbsp;<br />Location:<br />Online via Zoom<br /><br />,  
PRIORITY:3
TRANSP:TRANSPARENT
BEGIN:VALARM
TRIGGER:-PT5M
ACTION:DISPLAY
DESCRIPTION:Reminder
END:VALARM
END:VEVENT
END:VCALENDAR
