BEGIN:VCALENDAR
VERSION:2.0
CALSCALE:GREGORIAN
METHOD:PUBLISH
PRODID://NEOL//179602
BEGIN:VEVENT
DTSTAMP:20260422T065332
VTIMEZONE:America/New_York
DTSTART:20190131T180000Z
DTEND:20190131T210000Z
UID:179602
SUMMARY:Construction and Facilities Network
LOCATION:Kirtland Public Library, 9267 Chillicothe Road , OH , Kirtland, OH, 44094
DESCRIPTION:Construction and Facilities Network\n\n01/31/19 01:00 PM EST\n - 01/31/19 04:00 PM EST\Description:\nJoin your colleagues for a round table discussion about the latest issues affecting construction and facilities in libraries. Please send agenda items to Shawna Keringer. \nThis meeting's discussion will focus on HVAC and what to expect from your cleaning contract facilitated by Patrick Jolly, Facilities Manager, Geauga County Public Library.\Details:\nWho should attend:  Anyone interested in Construction and Facilities\n\nCost:  FREE\Location:\nKirtland Public Library\n9267 Chillicothe Road , OH \nKirtland, OH 44094
X-ALT-DESC;FMTTYPE=text/html:Construction and Facilities Network<br /><br />01/31/19 01:00 PM EST - 01/31/19 04:00 PM EST<br />Description:<br />Join your colleagues for a round table discussion about the latest issues affecting construction and facilities in libraries.&nbsp;Please send agenda items to<a href="mailto:skeringer@madison-library.info">&nbsp;Shawna Keringer</a>.&nbsp;<br />
This meeting's discussion will focus on HVAC and what to expect from your cleaning contract facilitated by Patrick Jolly, Facilities Manager, Geauga&nbsp;County Public Library.<br />Details:<br />Who should attend:&nbsp; Anyone interested in Construction and Facilities<br />
<br />
Cost:&nbsp; FREE<br />Location:<br />Kirtland Public Library<br />9267 Chillicothe Road , OH <br />Kirtland, OH 44094
PRIORITY:3
TRANSP:TRANSPARENT
BEGIN:VALARM
TRIGGER:-PT5M
ACTION:DISPLAY
DESCRIPTION:Reminder
END:VALARM
END:VEVENT
END:VCALENDAR
