BEGIN:VCALENDAR
VERSION:2.0
CALSCALE:GREGORIAN
METHOD:PUBLISH
PRODID://NEOL//179386
BEGIN:VEVENT
DTSTAMP:20260422T124752
VTIMEZONE:America/New_York
DTSTART:20191010T140000Z
DTEND:20191010T150000Z
UID:179386
SUMMARY:It's a Manager/Supervisor's  Job to  Motivate  Staff
LOCATION:Online, Via Adobe Connect
DESCRIPTION:It's a Manager/Supervisor's  Job to  Motivate  Staff\n\n10/10/19 10:00 AM EST\n - 10/10/19 11:00 AM EST\Description:\nGreat things happen when people are motivated.  However,  we often think that everyone comes to the job already motivated or they should be as motivated as others around them. Either rarely happens and therefore, it is the Manager/Supervisor’s job to motivate staff.  This session will look at ways of discovering what motivates your staff, discuss setting stretch goals to promote growth and autonomy, and examine common behavioral barriers to motivating staff.\n \nPresenter: \n\nBetsy Lantz, Executive Director, NEO-RLS\n \Details:\nWho Should Attend:  Managers and Supervisors\n\nCompetency:  Human Capital Management    \n\nGEO Cost:      $40\nBronze Cost:  $24\nSilver Cost:   FREE\nGold Cost:    FREE\n\nCan't attend on the date or time listed? Sign up anyway! All of our webinars include archive access for later viewing at your convenience.\n\nIt’s never too late to save your library money. NEO Memberships are pro-rated! Call us today to join.\Location:\nOnline\nVia Adobe Connect\n,
X-ALT-DESC;FMTTYPE=text/html:It's a Manager/Supervisor's  Job to  Motivate  Staff<br /><br />10/10/19 10:00 AM EST - 10/10/19 11:00 AM EST<br />Description:<br />Great things happen when people are motivated.&nbsp; However,&nbsp; we often think that everyone comes to the job already motivated or they should be as motivated as others around them. Either rarely happens and therefore, it is the Manager/Supervisor&rsquo;s job to motivate staff.&nbsp; This session will look at ways of discovering what motivates your staff, discuss setting stretch goals to promote growth and autonomy, and examine common behavioral barriers to motivating staff.<br />
&nbsp;<br />
<strong>Presenter:</strong>&nbsp;<br />
<br />
<em>Betsy Lantz,</em> Executive Director, NEO-RLS<br />
&nbsp;<br />Details:<br /><span font-size:="" new="" style="color: rgb(0, 0, 0); font-family: " times="">Who Should Attend:&nbsp; Managers and Supervisors</span><br />
<br />
Competency:&nbsp; Human Capital Management&nbsp;&nbsp;&nbsp;&nbsp;<br />
<br />
<font face="Verdana" size="2"><span style="font-size: small; font-family: Verdana;">GEO Cost: &nbsp; &nbsp;&nbsp; $40</span><br style="font-size: small; box-sizing: border-box; font-family: Verdana;" />
<span style="font-size: small; font-family: Verdana;">Bronze Cost:&nbsp; $24</span><br style="font-size: small; box-sizing: border-box; font-family: Verdana;" />
<span style="font-size: small; font-family: Verdana;">Silver Cost:&nbsp; &nbsp;FREE</span><br style="font-size: small; box-sizing: border-box; font-family: Verdana;" />
<span style="font-size: small; font-family: Verdana;">Gold Cost:&nbsp;&nbsp;&nbsp; FREE</span></font><br style="font-size: small; box-sizing: border-box; font-family: Verdana;" />
<br />
Can't attend on the date or time listed? Sign up anyway! All of our webinars include archive access for later viewing at your convenience.<br />
<br style="font-size: small; box-sizing: border-box; font-family: Verdana;" />
<font face="Verdana" size="2"><strong><font face="Verdana" size="2" style="box-sizing: border-box; font-family: Verdana; font-size: small;"><font face="Verdana" size="2" style="box-sizing: border-box;"><font face="Verdana" size="2" style="box-sizing: border-box;"><font face="Verdana" size="2" style="box-sizing: border-box;"><font face="Verdana" size="2" style="box-sizing: border-box;"><em style="box-sizing: border-box;">It&rsquo;s never too late to save your library money. NEO Memberships are pro-rated! Call us today to join.</em></font></font></font></font></font></strong></font><br />Location:<br />Online<br />Via Adobe Connect<br />,  
PRIORITY:3
TRANSP:TRANSPARENT
BEGIN:VALARM
TRIGGER:-PT5M
ACTION:DISPLAY
DESCRIPTION:Reminder
END:VALARM
END:VEVENT
END:VCALENDAR
