BEGIN:VCALENDAR
VERSION:2.0
CALSCALE:GREGORIAN
METHOD:PUBLISH
PRODID://NEOL//174131
BEGIN:VEVENT
DTSTAMP:20260421T095702
VTIMEZONE:America/New_York
DTSTART:20190419T180000Z
DTEND:20190419T190000Z
UID:174131
SUMMARY:Navigating Ohio's Library Organizations  <font color = ff0000>[Archive] </font>
LOCATION:Online, Via Adobe Connect
DESCRIPTION:Navigating Ohio's Library Organizations  <font color = ff0000>[Archive] </font>\n\n04/19/19 02:00 PM EST\n - 04/19/19 03:00 PM EST\Description:\nWhether you're new to libraries or a more experienced member of library land, you probably noticed that Ohio has a lot of library organizations! It can be confusing to navigate these organizations, determine what services they offer, and decide how to get involved with them. (Deciphering the acronym soup can be tough too!) This webinar, co-hosted by NEO-RLS and the New-to-Libraries Network, will provide an overview of the many Ohio library organizations and help you determine how to make the most of these important groups.\n\nPresenters:  New to Libraries Network\Details:\nWho should attend:  Anyone interested in learning more about library organizations.\n\nFREE to All\Location:\nOnline\nVia Adobe Connect\n,
X-ALT-DESC;FMTTYPE=text/html:Navigating Ohio's Library Organizations  <font color = ff0000>[Archive] </font><br /><br />04/19/19 02:00 PM EST - 04/19/19 03:00 PM EST<br />Description:<br />Whether you're new to libraries or a more experienced member of library land, you probably noticed that Ohio has a lot of library organizations! It can be confusing to navigate these organizations, determine what services they offer, and decide how to get involved with them. (Deciphering the acronym soup can be tough too!) This webinar, co-hosted by NEO-RLS and the New-to-Libraries Network, will provide an overview of the many Ohio library organizations and help you determine how to make the most of these important groups.<br />
<br />
Presenters:&nbsp; New to Libraries Network<br />Details:<br />Who should attend:&nbsp; Anyone interested in learning more about library organizations.<br />
<br />
FREE to All<br />Location:<br />Online<br />Via Adobe Connect<br />,  
PRIORITY:3
TRANSP:TRANSPARENT
BEGIN:VALARM
TRIGGER:-PT5M
ACTION:DISPLAY
DESCRIPTION:Reminder
END:VALARM
END:VEVENT
END:VCALENDAR
