BEGIN:VCALENDAR
VERSION:2.0
CALSCALE:GREGORIAN
METHOD:PUBLISH
PRODID://NEOL//172020
BEGIN:VEVENT
DTSTAMP:20260424T045523
VTIMEZONE:America/New_York
DTSTART:20190312T133000Z
DTEND:20190312T163000Z
UID:172020
SUMMARY:Difficult Conversations re: Corrective Action and Termination
LOCATION:Rocky River Public Library, 1600 Hampton Rd., Rocky River, OH, 44116
DESCRIPTION:Difficult Conversations re: Corrective Action and Termination\n\n03/12/19 09:30 AM EST\n - 03/12/19 12:30 PM EST\Description:\nHaving a difficult conversation with an employee is a manager’s least favorite, yet extremely necessary, part of the job. Addressing performance issues head-on will not only save you and your organization time and energy, it could help a poor performing employee become a star performer. \n\nLearning Objectives:\n\n\n	 How to document performance\n	The creation of Performance Improvement Plans (PIP)\n	Scripting the difficult conversation\n\nPresenter:\n\nSara Hodgson is the Director of Human Resources at the Mandel Jewish Community Center where she is responsible for developing and implementing policies and procedures encompassing all aspects of Human Resources including employee and labor relations, compensation and benefits, training and development, performance management, and recruitment. Prior to joining the Mandel JCC in 2014, Sara was the HR Manager at the Cleveland Museum of Art for 16 years. Sara has a Bachelor of Business Administration degree from Ohio University and holds the Senior Professional in Human Resources (SPHR) and SHRM Senior Certified Professional (SHRM-SCP) certifications.  \Details:\nWho Should Attend:  Managers and Administration\n\nCompetency:  Human Capital Management\n\nCost:\nGEO Cost:      $80\nBronze Cost:  $60\nSilver Cost:    $40\nGold Cost:     FREE\n\nIt’s never too late to save your library money. NEO-RLS Memberships are pro-rated! Call us today to join.\Location:\nRocky River Public Library\n1600 Hampton Rd.\nRocky River, OH 44116
X-ALT-DESC;FMTTYPE=text/html:Difficult Conversations re: Corrective Action and Termination<br /><br />03/12/19 09:30 AM EST - 03/12/19 12:30 PM EST<br />Description:<br /><p>Having a difficult conversation with an employee is a manager&rsquo;s least favorite, yet extremely necessary, part of the job. Addressing performance issues head-on will not only save you and your organization time and energy, it could help a poor performing employee become a star performer.&nbsp;</p>

<p><strong>Learning Objectives:</strong></p>

<ul>
	<li>&nbsp;How to document performance</li>
	<li>The creation of Performance Improvement Plans (PIP)</li>
	<li>Scripting the difficult conversation</li>
</ul>
<strong>Presenter:</strong><br />
<br />
<em>Sara Hodgson</em> is the Director of Human Resources at the Mandel Jewish Community Center where she is responsible for developing and implementing policies and procedures encompassing all aspects of Human Resources including employee and labor relations, compensation and benefits, training and development, performance management, and recruitment. Prior to joining the Mandel JCC in 2014, Sara was the HR Manager at the Cleveland Museum of Art for 16 years. Sara has a Bachelor of Business Administration degree from Ohio University and holds the Senior Professional in Human Resources (SPHR) and SHRM Senior Certified Professional (SHRM-SCP) certifications. &nbsp;<br />Details:<br />Who Should Attend:&nbsp; Managers and Administration<br />
<br />
Competency:&nbsp; Human Capital Management<br />
<br />
<font face="Verdana" size="2"><font face="Verdana" size="2"><font face="Verdana" size="2"><font face="Verdana" size="2">Cost:<br />
GEO Cost: &nbsp; &nbsp;&nbsp; $80<br />
Bronze Cost:&nbsp; $60<br />
Silver Cost:&nbsp;&nbsp;&nbsp; $40<br />
Gold Cost: &nbsp; &nbsp; FREE</font></font></font><br />
<br />
<font face="Verdana" size="2"><font face="Verdana" size="2"><font face="Verdana" size="2"><strong><font face="Verdana" size="2"><font face="Verdana" size="2"><font face="Verdana" size="2"><font face="Verdana" size="2"><font face="Verdana" size="2"><em>It&rsquo;s never too late to save your library money. NEO-RLS Memberships are pro-rated! Call us today to join.</em></font></font></font></font></font></strong></font></font></font></font><br />Location:<br />Rocky River Public Library<br />1600 Hampton Rd.<br />Rocky River, OH 44116
PRIORITY:3
TRANSP:TRANSPARENT
BEGIN:VALARM
TRIGGER:-PT5M
ACTION:DISPLAY
DESCRIPTION:Reminder
END:VALARM
END:VEVENT
END:VCALENDAR
