BEGIN:VCALENDAR
VERSION:2.0
CALSCALE:GREGORIAN
METHOD:PUBLISH
PRODID://NEOL//167937
BEGIN:VEVENT
DTSTAMP:20260422T221336
VTIMEZONE:America/New_York
DTSTART:20181127T150000Z
DTEND:20181127T160000Z
UID:167937
SUMMARY:Homework Help Centers
LOCATION:Online, Via Adobe Connect
DESCRIPTION:Homework Help Centers\n\n11/27/18 10:00 AM EST\n - 11/27/18 11:00 AM EST\Description:\nThe author of the new book, Creating & Managing the Full-Service Homework Center (ALA, 2018), will share what you need to know about starting and running an after-school homework program in your library: everything from staffing to where to offer homework help, from hours, supplies and equipment to funding sources and evaluation. She’ll also point you to some of the best homework programs in the country. Questions are welcome!\n \nPresenter:\nCindy Mediavilla has been studying homework programs since she ran an after-school homework center for the Orange (CA) Public Library in the early 1990s. She has written two books and several articles on the topic, plus has evaluated homework programs for the California State Library as well as public libraries in Los Angeles and Long Beach (CA). She is a well-known speaker and has conducted many workshops on homework help. A retired public librarian, Cindy is now a library consultant, trainer and author. Her MLS and PhD in library science are both from UCLA.\Details:\nWho Should Attend: Anyone interested in Homework Help Centers\nCompetency:  Customer Service and Patron Awareness\n\nGEO Cost:      $40\nBronze Cost:  $24\nSilver Cost:    FREE\nGold Cost:     FREE\n\nCan't attend on the date or time listed? Sign up anyway! All of our webinars include archive access for later viewing at your convenience.\n\nIt’s never too late to save your library money. NEO-RLS Memberships are pro-rated! Call us today to join.\Location:\nOnline\nVia Adobe Connect\n,
X-ALT-DESC;FMTTYPE=text/html:Homework Help Centers<br /><br />11/27/18 10:00 AM EST - 11/27/18 11:00 AM EST<br />Description:<br />The author of the new book, <em>Creating &amp; Managing the Full-Service Homework Center</em> (ALA, 2018), will share what you need to know about starting and running an after-school homework program in your library: everything from staffing to where to offer homework help, from hours, supplies and equipment to funding sources and evaluation. She&rsquo;ll also point you to some of the best homework programs in the country. Questions are welcome!<br />
&nbsp;<br />
<strong>Presenter:</strong><br />
Cindy Mediavilla has been studying homework programs since she ran an after-school homework center for the Orange (CA) Public Library in the early 1990s. She has written two books and several articles on the topic, plus has evaluated homework programs for the California State Library as well as public libraries in Los Angeles and Long Beach (CA). She is a well-known speaker and has conducted many workshops on homework help. A retired public librarian, Cindy is now a library consultant, trainer and author. Her MLS and PhD in library science are both from UCLA.<br />Details:<br /><font face="Verdana" size="2">Who Should Attend: Anyone interested in Homework Help Centers</font><br />
<font face="Verdana" size="2">Competency:&nbsp; Customer Service and Patron Awareness<br />
<br />
<font face="Verdana" size="2"><font face="Verdana" size="2"><font face="Verdana" size="2">GEO Cost: &nbsp; &nbsp;&nbsp; $40<br />
Bronze Cost:&nbsp; $24<br />
Silver Cost:&nbsp;&nbsp;&nbsp; FREE<br />
Gold Cost:&nbsp; &nbsp; &nbsp;FREE</font><br />
<br />
Can't attend on the date or time listed? Sign up anyway! All of our webinars include archive access for later viewing at your convenience.<br />
<br />
<font face="Verdana" size="2"><strong><font face="Verdana" size="2"><font face="Verdana" size="2"><font face="Verdana" size="2"><font face="Verdana" size="2"><font face="Verdana" size="2"><em>It&rsquo;s never too late to save your library money. NEO-RLS Memberships are pro-rated! Call us today to join.</em></font></font></font></font></font></strong></font></font></font></font><br />Location:<br />Online<br />Via Adobe Connect<br />,  
PRIORITY:3
TRANSP:TRANSPARENT
BEGIN:VALARM
TRIGGER:-PT5M
ACTION:DISPLAY
DESCRIPTION:Reminder
END:VALARM
END:VEVENT
END:VCALENDAR
