BEGIN:VCALENDAR
VERSION:2.0
CALSCALE:GREGORIAN
METHOD:PUBLISH
PRODID://NEOL//163048
BEGIN:VEVENT
DTSTAMP:20260420T174120
VTIMEZONE:America/New_York
DTSTART:20181210T150000Z
DTEND:20181210T160000Z
UID:163048
SUMMARY:Smart Voice Assistants
LOCATION:Online, Via Adobe Connect
DESCRIPTION:Smart Voice Assistants\n\n12/10/18 10:00 AM EST\n - 12/10/18 11:00 AM EST\Description:\nHave you ever wanted your own personal assistant, one that can help you with everyday tasks and information as you need it?  This is possible today with smart voice assistants! Devices and software like Amazon Alexa, Google Home and Siri are getting smarter every day and can help your patrons, your staff, and your library with useful information, entertainment, daily chores and tasks, and much more.\n \nLearning Objectives:\n\n	Learn about the differences between these smart voice assistants and what makes them smart\n	Discover what each of these do best and what assistant is best for you\n	Learn how to make them work for you in the best way possible so that they can truly be the voice assistant that you can count on\n\nThis program may then be used to share with your patrons.\n\nPresenter:\n\nHolly Klingler, Research and Innovation Coordinator, NEO-RLS\Details:\nWho should attend:  Anyone interested in voice assistants\nCompetency:  Basic Computer Use/Hardware Knowledge and Adaptability\n\nGEO Cost:      $40\nBronze Cost:  $24\nSilver Cost:    FREE\nGold Cost:     FREE\n\nCan't attend on the date or time listed? Sign up anyway! All of our webinars include archive access for later viewing at your convenience.\n\nIt’s never too late to save your library money. NEO-RLS Memberships are pro-rated! Call us today to join.\Location:\nOnline\nVia Adobe Connect\n,
X-ALT-DESC;FMTTYPE=text/html:Smart Voice Assistants<br /><br />12/10/18 10:00 AM EST - 12/10/18 11:00 AM EST<br />Description:<br />Have you ever wanted your own personal assistant, one that can help you with everyday tasks and information as you need it?&nbsp; This is possible today with smart voice assistants! Devices and software like Amazon Alexa, Google Home and Siri are getting smarter every day and can help your patrons, your staff, and your library with useful information, entertainment, daily chores and tasks, and much more.<br />
&nbsp;<br />
Learning Objectives:
<ul>
	<li>Learn about the differences between these smart voice assistants and what makes them smart</li>
	<li>Discover what each of these do best and what assistant is best for you</li>
	<li>Learn how to make them work for you in the best way possible so that they can truly be the voice assistant that you can count on</li>
</ul>
This program may then be used to share with your patrons.<br />
<br />
<strong>Presenter:</strong><br />
<br />
<em>Holly Klingler</em>, Research and Innovation Coordinator, NEO-RLS<br />Details:<br /><font face="Verdana" size="2"><font face="Verdana" size="2"><font face="Verdana" size="2"><font face="Verdana" size="2">Who should attend:&nbsp; Anyone interested in voice assistants<br />
Competency:&nbsp; Basic Computer Use/Hardware Knowledge and Adaptability<br />
<br />
<font face="Verdana" size="2"><font face="Verdana" size="2"><span style="font-size: small; font-family: Verdana;">GEO Cost: &nbsp; &nbsp;&nbsp; $40</span><br style="font-size: small; box-sizing: border-box; font-family: Verdana;" />
<span style="font-size: small; font-family: Verdana;">Bronze Cost:&nbsp; $</span>24<br style="font-size: small; box-sizing: border-box; font-family: Verdana;" />
<span style="font-size: small; font-family: Verdana;">Silver Cost:&nbsp;&nbsp;&nbsp; FREE</span><br style="font-size: small; box-sizing: border-box; font-family: Verdana;" />
<span style="font-size: small; font-family: Verdana;">Gold Cost:&nbsp; &nbsp; &nbsp;FREE</span></font></font></font></font></font></font><br style="font-size: small; box-sizing: border-box; font-family: Verdana;" />
<br />
<font face="Verdana" size="2"><font face="Verdana" size="2">Can't attend on the date or time listed? Sign up anyway! All of our webinars include archive access for later viewing at your convenience.</font></font><br />
<br style="font-size: small; box-sizing: border-box; font-family: Verdana;" />
<font face="Verdana" size="2"><font face="Verdana" size="2"><font face="Verdana" size="2"><font face="Verdana" size="2"><font face="Verdana" size="2"><font face="Verdana" size="2"><strong><font face="Verdana" size="2" style="box-sizing: border-box; font-family: Verdana; font-size: small;"><font face="Verdana" size="2" style="box-sizing: border-box;"><font face="Verdana" size="2" style="box-sizing: border-box;"><font face="Verdana" size="2" style="box-sizing: border-box;"><font face="Verdana" size="2" style="box-sizing: border-box;"><em style="box-sizing: border-box;">It&rsquo;s never too late to save your library money. NEO-RLS Memberships are pro-rated! Call us today to join.</em></font></font></font></font></font></strong></font></font></font></font></font></font><br />Location:<br />Online<br />Via Adobe Connect<br />,  
PRIORITY:3
TRANSP:TRANSPARENT
BEGIN:VALARM
TRIGGER:-PT5M
ACTION:DISPLAY
DESCRIPTION:Reminder
END:VALARM
END:VEVENT
END:VCALENDAR
