BEGIN:VCALENDAR
VERSION:2.0
CALSCALE:GREGORIAN
METHOD:PUBLISH
PRODID://NEOL//194793
BEGIN:VEVENT
DTSTAMP:20260421T235156
VTIMEZONE:America/New_York
DTSTART:20200805T193000Z
DTEND:20200805T203000Z
UID:194793
SUMMARY:Directors Virtual Networking Meeting
LOCATION:Online, Via Zoom
DESCRIPTION:Directors Virtual Networking Meeting\n\n08/05/20 03:30 PM EST\n - 08/05/20 04:30 PM EST\Description:\nWe know these uncertain times are a challenge for everyone.  Here is an opportunity to talk with your peers to learn how they are managing this crisis.  This meeting will be held through Zoom which is user friendly to all devices.  You will receive a link in your confirmation email  a reminder 2 hours before the meeting. We hope you will join us. Please send agenda items/questions to Jonathan Harris.\Details:\nCost:  FREE to all\Location:\nOnline\nVia Zoom\n,
X-ALT-DESC;FMTTYPE=text/html:Directors Virtual Networking Meeting<br /><br />08/05/20 03:30 PM EST - 08/05/20 04:30 PM EST<br />Description:<br />We know these uncertain times are a challenge for everyone.&nbsp; Here is an opportunity to talk with your peers to learn how they are managing this crisis.&nbsp; This meeting will be held through Zoom which is user friendly to all devices.&nbsp; You will receive a link in your confirmation email&nbsp; a reminder 2 hours before the meeting. We hope you will join us. Please send agenda items/questions to <a href="mailto:jharris@portagelibrary.org">Jonathan Harris</a>.<br />Details:<br />Cost:&nbsp; FREE to all<br />Location:<br />Online<br />Via Zoom<br />,  
PRIORITY:3
TRANSP:TRANSPARENT
BEGIN:VALARM
TRIGGER:-PT5M
ACTION:DISPLAY
DESCRIPTION:Reminder
END:VALARM
END:VEVENT
END:VCALENDAR
