BEGIN:VCALENDAR
VERSION:2.0
CALSCALE:GREGORIAN
METHOD:PUBLISH
PRODID://NEOL//188265
BEGIN:VEVENT
DTSTAMP:20260420T165535
VTIMEZONE:America/New_York
DTSTART:20200313T170000Z
DTEND:20200313T200000Z
UID:188265
SUMMARY:Academic Library Directors' Networking Meeting <font color = ff0000>Meeting via WebEx</font>
LOCATION:Cuyahoga Community College ÃƒÂ¢Ã¢â€šÂ¬Ã¢â‚¬Å“ Metropolitan Campus, Metropolitan Campus Center room 236, Cleveland, OH, 44115
DESCRIPTION:Academic Library Directors' Networking Meeting <font color = ff0000>Meeting via WebEx</font>\n\n03/13/20 01:00 PM EST\n - 03/13/20 04:00 PM EST\Description:\nJoin your fellow academic library directors for a lively discussion.  Please send your discussion topic ideas to Richard "Skip" Bazile.\Details:\nWho should attend:  Academic Library Directors\nCost:  FREE to all\Location:\nCuyahoga Community College ÃƒÂ¢Ã¢â€šÂ¬Ã¢â‚¬Å“ Metropolitan Campus\nMetropolitan Campus Center room 236\nCleveland, OH 44115
X-ALT-DESC;FMTTYPE=text/html:Academic Library Directors' Networking Meeting <font color = ff0000>Meeting via WebEx</font><br /><br />03/13/20 01:00 PM EST - 03/13/20 04:00 PM EST<br />Description:<br />Join your fellow academic library directors for a lively discussion.&nbsp; Please send your discussion topic ideas to&nbsp;<a href="mailto:Richard.Bazile@tri-c.edu">Richard &quot;Skip&quot; Bazile.</a><br />Details:<br />Who should attend:&nbsp; Academic Library Directors<br />
Cost:&nbsp; FREE to all<br />Location:<br />Cuyahoga Community College ÃƒÂ¢Ã¢â€šÂ¬Ã¢â‚¬Å“ Metropolitan Campus<br />Metropolitan Campus Center room 236<br />Cleveland, OH 44115
PRIORITY:3
TRANSP:TRANSPARENT
BEGIN:VALARM
TRIGGER:-PT5M
ACTION:DISPLAY
DESCRIPTION:Reminder
END:VALARM
END:VEVENT
END:VCALENDAR
